BEGIN:VCALENDAR
VERSION:2.0
PRODID:-//CPCR66 - ECPv6.15.20//NONSGML v1.0//EN
CALSCALE:GREGORIAN
METHOD:PUBLISH
X-WR-CALNAME:CPCR66
X-ORIGINAL-URL:https://www.cpcr66.fr
X-WR-CALDESC:Évènements pour CPCR66
REFRESH-INTERVAL;VALUE=DURATION:PT1H
X-Robots-Tag:noindex
X-PUBLISHED-TTL:PT1H
BEGIN:VTIMEZONE
TZID:Europe/Paris
BEGIN:DAYLIGHT
TZOFFSETFROM:+0100
TZOFFSETTO:+0200
TZNAME:CEST
DTSTART:20230326T010000
END:DAYLIGHT
BEGIN:STANDARD
TZOFFSETFROM:+0200
TZOFFSETTO:+0100
TZNAME:CET
DTSTART:20231029T010000
END:STANDARD
BEGIN:DAYLIGHT
TZOFFSETFROM:+0100
TZOFFSETTO:+0200
TZNAME:CEST
DTSTART:20240331T010000
END:DAYLIGHT
BEGIN:STANDARD
TZOFFSETFROM:+0200
TZOFFSETTO:+0100
TZNAME:CET
DTSTART:20241027T010000
END:STANDARD
BEGIN:DAYLIGHT
TZOFFSETFROM:+0100
TZOFFSETTO:+0200
TZNAME:CEST
DTSTART:20250330T010000
END:DAYLIGHT
BEGIN:STANDARD
TZOFFSETFROM:+0200
TZOFFSETTO:+0100
TZNAME:CET
DTSTART:20251026T010000
END:STANDARD
END:VTIMEZONE
BEGIN:VEVENT
DTSTART;TZID=Europe/Paris:20240210T190000
DTEND;TZID=Europe/Paris:20240210T233000
DTSTAMP:20260421T193457
CREATED:20240109T154330Z
LAST-MODIFIED:20240110T095232Z
UID:6629-1707591600-1707607800@www.cpcr66.fr
SUMMARY:Soirée sanglier
DESCRIPTION:
URL:https://www.cpcr66.fr/evenement/soiree-sanglier/
LOCATION:CPCR66\, ZT Port de Canet \, 21 Avenue Génèral DELESTRAINT\, 66140 Canet-en-roussillon\, canet en roussillon\, Pyrénées occidentales\, 66140\, France
ORGANIZER;CN="CPCR66":MAILTO:club@cpcr66.fr
END:VEVENT
END:VCALENDAR